BEGIN:VCALENDAR
VERSION:2.0
PRODID:-//Autoescuela Aranvial - ECPv6.15.20//NONSGML v1.0//EN
CALSCALE:GREGORIAN
METHOD:PUBLISH
X-ORIGINAL-URL:https://aranvial.com
X-WR-CALDESC:Eventos para Autoescuela Aranvial
REFRESH-INTERVAL;VALUE=DURATION:PT1H
X-Robots-Tag:noindex
X-PUBLISHED-TTL:PT1H
BEGIN:VTIMEZONE
TZID:UTC
BEGIN:STANDARD
TZOFFSETFROM:+0000
TZOFFSETTO:+0000
TZNAME:UTC
DTSTART:20230101T000000
END:STANDARD
END:VTIMEZONE
BEGIN:VEVENT
DTSTART;TZID=UTC:20240712T080000
DTEND;TZID=UTC:20240720T170000
DTSTAMP:20260419T090754
CREATED:20231216T100451Z
LAST-MODIFIED:20240706T065314Z
UID:588-1720771200-1721494800@aranvial.com
SUMMARY:Curso de recuperación del carnet
DESCRIPTION:Recupera tu Carnet de Conducir con Nosotros\n\n\n\n¡Bienvenido a la autoescuela Aranvial! Ofrecemos cursos de recuperación del carnet de conducir diseñados para ayudarte a retomar el control en la carretera. \n\n\n\n¿Por qué elegir nuestro curso de recuperación del carnet?\n\n\n\n\nExperiencia y Profesionalismo: Contamos con instructores altamente calificados que te guiarán durante todo el proceso de recuperación.\n\n\n\n⏰ Flexibilidad de Horarios: Adaptamos nuestros cursos para satisfacer tus necesidades. Encuentra el horario que mejor se ajuste a tu agenda.\n\n\n\n Prácticas en Rutas Reales: Te proporcionamos experiencia práctica en situaciones de conducción real para que te sientas preparado en cualquier entorno.\n\n\n\nMaterial de Estudio Actualizado: Utilizamos los recursos más recientes para asegurarnos de que estés al tanto de las últimas normativas y reglamentaciones de tráfico.\n\n\n\n\n\n\n\n\n\n\nCómo Funciona:\n\n\n\n\n Contacto Inicial: Llámanos al [Número de Teléfono] para obtener más información y programar tu curso de recuperación.\n\n\n\n Encuéntranos: Nuestra sede está ubicada en Calle Naranja\, 23\, 28300 Aranjuez\, Madrid. ¡Visítanos y conoce nuestras instalaciones!\n\n\n\n Inicia Tu Recuperación: Una vez que hayas elegido tus fechas y horarios\, estarás listo para comenzar tu viaje hacia la recuperación del carnet.\n\n\n\n\nContáctanos para recuperar tu permiso de conducir:\n\n\n\n\n\n\n\n\n\n\n\n\n\n\n\n\n\n\n\n\n\nLLÁMANOS\n\n\n\n\n\n\n¡Recupera tu libertad de conducir con la autoescuela Aranvial! Estamos aquí para apoyarte en cada paso del camino.
URL:https://aranvial.com/curso/curso-de-recuperacion-del-carnet/
LOCATION:Toledo
CATEGORIES:Recuperación
ATTACH;FMTTYPE=image/jpeg:https://aranvial.com/wp-content/uploads/2023/12/renueva-puntos.jpg
END:VEVENT
BEGIN:VEVENT
DTSTART;TZID=UTC:20240409T080000
DTEND;TZID=UTC:20240415T080000
DTSTAMP:20260419T090754
CREATED:20230322T102409Z
LAST-MODIFIED:20240321T175259Z
UID:205-1712649600-1713168000@aranvial.com
SUMMARY:Renovación de ADR
DESCRIPTION:Próximo curso de renovación de ADR\, básico y de cisternas\n\n\n\nAhora puedes renovar de la forma más cómoda tu permiso ADR. Más información e inscripciones en: 644 30 92 47 o en el mail: aranvial.escuela@hotmaill.com \n\n\n\n¡Renueva tu permiso ADR y mantén tu capacitación actualizada! En Autoescuela Aranvial\, ofrecemos un curso de renovación del permiso ADR\, tanto básico como de cisternas\, para ayudarte a mantener tus conocimientos actualizados y cumplir con los requisitos legales para el transporte de mercancías peligrosas. \n\n\n\n\n\n\n\n\n\n\n\n\n\n\n\n\n\n\n\n\n\nLLÁMANOS\n\n\n\n\n\n\n\n\n\n\nDurante nuestro curso de renovación del permiso ADR\, repasarás los conceptos clave que necesitas para mantener tu permiso actualizado y seguir transportando mercancías peligrosas de forma segura y eficiente. Nuestros instructores altamente capacitados te guiarán a través de los cambios más recientes en la regulación\, así como de los procedimientos de carga y descarga\, las normativas de seguridad y las medidas de emergencia en caso de accidente. \n\n\n\nEn Autoescuela Aranvial\, sabemos que tu tiempo es valioso. Por eso\, nuestro curso de renovación del permiso ADR está diseñado para adaptarse a tus necesidades y horarios\, para que puedas mantener tu capacitación actualizada de forma rápida y eficiente. Ofrecemos clases teóricas y prácticas\, así como simulaciones y prácticas reales en carretera\, para que puedas estar completamente preparado para el examen de renovación. \n\n\n\n\n\n\n\n\n\n¡Mantén tu capacitación actualizada y sigue transportando mercancías peligrosas de forma segura! Contáctanos hoy mismo para obtener más información sobre nuestro próximo curso de renovación del permiso ADR\, tanto básico como de cisternas\, y comienza tu camino hacia una carrera exitosa en el transporte de mercancías peligrosas. En Autoescuela Aranvial\, te proporcionamos la formación que necesitas para triunfar en este emocionante campo.
URL:https://aranvial.com/curso/renueva-adr/
LOCATION:Toledo
CATEGORIES:Transportistas profesionales
ATTACH;FMTTYPE=image/jpeg:https://aranvial.com/wp-content/uploads/2023/03/renueva-adr.jpg
END:VEVENT
END:VCALENDAR