BEGIN:VCALENDAR
VERSION:2.0
PRODID:-//Autoescuela Aranvial - ECPv6.15.20//NONSGML v1.0//EN
CALSCALE:GREGORIAN
METHOD:PUBLISH
X-ORIGINAL-URL:https://aranvial.com
X-WR-CALDESC:Eventos para Autoescuela Aranvial
REFRESH-INTERVAL;VALUE=DURATION:PT1H
X-Robots-Tag:noindex
X-PUBLISHED-TTL:PT1H
BEGIN:VTIMEZONE
TZID:UTC
BEGIN:STANDARD
TZOFFSETFROM:+0000
TZOFFSETTO:+0000
TZNAME:UTC
DTSTART:20250101T000000
END:STANDARD
END:VTIMEZONE
BEGIN:VEVENT
DTSTART;TZID=UTC:20260501T080000
DTEND;TZID=UTC:20260523T170000
DTSTAMP:20260423T084340
CREATED:20260316T105731Z
LAST-MODIFIED:20260421T093447Z
UID:879-1777622400-1779555600@aranvial.com
SUMMARY:Curso de ADR Básico más cisternas
DESCRIPTION:¿Quieres ampliar tus horizontes como transportista? Todo sobre el Curso de ADR Básico \n\n\n\nSi trabajas en el sector del transporte o estás pensando en iniciarte en él\, tarde o temprano escucharás estas tres letras: ADR. Pero\, ¿qué significan realmente y por qué el curso básico es tu mejor aliado para mejorar tu empleabilidad? \n\n\n\nEn este post te contamos todo lo que necesitas saber para sacarte el carnet de mercancías peligrosas. \n\n\n\n\n\n\n\n¿Qué es exactamente el ADR?\n\n\n\nEl nombre viene de un acuerdo europeo (Accord Dangerous Routiers) que regula el transporte de sustancias que\, en caso de accidente\, podrían ser un riesgo para las personas o el medio ambiente. \n\n\n\nNo estamos hablando solo de residuos nucleares; cosas tan cotidianas como pinturas\, perfumes\, baterías de litio o productos de limpieza industriales entran dentro de esta categoría. \n\n\n\n¿Para qué sirve el Curso de ADR Básico?\n\n\n\nEl curso básico es la llave maestra. Es la formación inicial obligatoria que te autoriza a conducir vehículos que transporten mercancías peligrosas (excepto explosivos y radiactivos\, que requieren módulos específicos). \n\n\n\nCon este permiso podrás: \n\n\n\n\nCircular con mercancías peligrosas en vehículos no cisterna.\n\n\n\nEntender la señalización y el etiquetado de los bultos.\n\n\n\nSaber cómo actuar en caso de emergencia o derrame.\n\n\n\n\n\nNota importante: Para obtener el ADR\, primero debes tener el carnet de conducir de la clase B (con al menos un año de antigüedad) y realizar un examen teórico en la DGT tras finalizar el curso. \n\n\n\n\n\n\n\n\n¿Qué aprenderás en el curso?\n\n\n\nNo te asustes\, no hace falta ser químico. El temario es muy práctico y está enfocado a la seguridad: \n\n\n\n\nTipos de peligros: Identificación de materias inflamables\, tóxicas o corrosivas.\n\n\n\nEquipamiento del vehículo: Qué herramientas y elementos de seguridad debes llevar a bordo.\n\n\n\nDocumentación: Qué papeles son obligatorios para circular legalmente.\n\n\n\nPrimeros auxilios y extinción de incendios: Prácticas reales para saber qué hacer si algo sale mal.\n\n\n\n\n¿Por qué sacártelo ahora?\n\n\n\nEl sector del transporte demanda cada vez más conductores especializados. Tener el ADR en tu currículum no solo te hace más valioso para las empresas\, sino que suele venir acompañado de mejores condiciones salariales y acceso a rutas más profesionales. \n\n\n\n\n\n\n\n¿Estás listo para empezar?\n\n\n\nEn nuestra autoescuela realizamos cursos intensivos de ADR Básico de forma periódica\, con profesores que conocen el sector a fondo y te ayudarán a aprobar a la primera. \n\n\n\n\n\n\n\n\n\n\n\n\n\n\n\n\n\n\n\n\n\nLLÁMANOS
URL:https://aranvial.com/curso/curso-de-adr-basico/
ATTACH;FMTTYPE=image/jpeg:https://aranvial.com/wp-content/uploads/2026/03/adr-basico.jpg
END:VEVENT
BEGIN:VEVENT
DTSTART;TZID=UTC:20260507T000000
DTEND;TZID=UTC:20260523T235959
DTSTAMP:20260423T084340
CREATED:20230518T095947Z
LAST-MODIFIED:20260421T093708Z
UID:190-1778112000-1779580799@aranvial.com
SUMMARY:Renovación del CAP para transportistas
DESCRIPTION:Ahora tienes la oportunidad de renovar el CAP en Toledo\n¡Bienvenido a la próxima renovación del Certificado de Aptitud Profesional (CAP) para transportistas en Toledo! \nNuevo curso de formación contínua para profesionales del transporte. Infórmate de las próximas fechas y apúntalas en tu calendario.\nCAP para transportistas.\nMás información e inscripciones al 644 30 92 47 o en el mail:\naranvial.escuela@hotmaill.com\n35 horas de formación los fines de semana.\n\n\n\n\n\n\n\n\n\n\n\n\n\n\n\n\n\n\n\n\nLLÁMANOS\n\n\n\n\n\n\n\n\n\n\n\n\nSi eres conductor profesional y operas vehículos de transporte de mercancías o pasajeros en territorio español\, debes tener en cuenta que el CAP es una formación obligatoria que debes renovar cada 5 años para poder seguir ejerciendo tu actividad profesional. \n\n\n\nEn nuestro próximo curso de renovación del CAP\, te ofrecemos la oportunidad de actualizar tus conocimientos y habilidades para mejorar tu seguridad en carretera\, la calidad de tu servicio y tu competitividad en el mercado del transporte. \n\n\n\nDurante el curso\, que consta de 35 horas de formación continua\, abordaremos temas como la normativa de transporte\, la seguridad en la carretera\, la conducción eficiente\, la prevención de riesgos laborales y la atención al cliente\, entre otros. \n\n\n\nNuestro equipo de formadores expertos te brindará una experiencia de aprendizaje única\, basada en una metodología dinámica y participativa\, que te permitirá adquirir nuevos conocimientos y habilidades de manera práctica y efectiva. \n\n\n\nAdemás\, te garantizamos una formación de calidad\, avalada por nuestra amplia experiencia en el sector del transporte y nuestro compromiso con la excelencia académica. \n\n\n\n¡No esperes más para renovar tu CAP y mejorar tu perfil profesional! Inscríbete en nuestro próximo curso de renovación y conviértete en un conductor más seguro\, eficiente y competitivo. ¡Te esperamos! \n\n\n\n\n\n\n\n\n\n Ubicación: Alameda de la Sagra \n\n\n\n¿Por qué elegirnos? \n\n\n\n Profesores altamente cualificados \n\n\n\n Material didáctico actualizado \n\n\n\n Ambiente de aprendizaje cómodo y profesional \n\n\n\n¡No pierdas esta oportunidad de avanzar en tu carrera como conductor profesional! Inscríbete ahora y asegúrate tu plaza. \n\n\n\n Contáctanos: 644 30 92 47 \n\n\n\n Email: aranvial.escuela@hotmaill.com \n\n\n\n¡Te esperamos en Autoescuela Aranvial para ayudarte a alcanzar tus metas profesionales! \n\n\n\n#AutoescuelaAranvial#CAPContinua#ConducciónProfesional#AlamedadelaSagra#Formación#certificacióncap
URL:https://aranvial.com/curso/renovacion-cap-transportistas/
LOCATION:Autoescuela Aranvial\, Avda. Castilla la Mancha\, 40\, Alameda de la Sagra\, Toledo\, 45240\, España
CATEGORIES:Transportistas profesionales
ATTACH;FMTTYPE=image/jpeg:https://aranvial.com/wp-content/uploads/2023/03/renueva-el-cap.jpg
ORGANIZER;CN="Autoescuela Aranvial":MAILTO:aranvial.escuela@hotmaill.com
END:VEVENT
END:VCALENDAR